BEGIN:VCALENDAR
PRODID:-//eluceo/ical//2.0/EN
VERSION:2.0
CALSCALE:GREGORIAN
BEGIN:VEVENT
UID:e3589224a50523684d0ce65a2243c333
DTSTAMP:20260422T224034Z
SUMMARY:Rótarýfundur
DESCRIPTION:
URL:https://isafjordur.rotary1360.is/en/agenda/show/3341
DTSTART;TZID=Iceland:20211118T183000
DTEND;TZID=Iceland:20211118T200000
LOCATION:Hótel Ísafjörður\nSilfurtorg\n400 Ísafjörður\n
CATEGORIES:Rotary
END:VEVENT
BEGIN:VTIMEZONE
TZID:Iceland
BEGIN:STANDARD
DTSTART:20211118T183000
TZNAME:GMT
TZOFFSETTO:+0000
TZOFFSETFROM:+0000
END:STANDARD
END:VTIMEZONE
END:VCALENDAR
